BEGIN:VCALENDAR
VERSION:2.0
PRODID:-//Spectrum Library - ECPv6.2.8.1//NONSGML v1.0//EN
CALSCALE:GREGORIAN
METHOD:PUBLISH
X-WR-CALNAME:Spectrum Library
X-ORIGINAL-URL:https://spectrumlibrary.sd61.bc.ca
X-WR-CALDESC:Events for Spectrum Library
REFRESH-INTERVAL;VALUE=DURATION:PT1H
X-Robots-Tag:noindex
X-PUBLISHED-TTL:PT1H
BEGIN:VTIMEZONE
TZID:America/Vancouver
BEGIN:DAYLIGHT
TZOFFSETFROM:-0800
TZOFFSETTO:-0700
TZNAME:PDT
DTSTART:20240310T100000
END:DAYLIGHT
BEGIN:STANDARD
TZOFFSETFROM:-0700
TZOFFSETTO:-0800
TZNAME:PST
DTSTART:20241103T090000
END:STANDARD
END:VTIMEZONE
BEGIN:VEVENT
DTSTART;TZID=America/Vancouver:20240223T113000
DTEND;TZID=America/Vancouver:20240223T140000
DTSTAMP:20260419T162448
CREATED:20240213T200833Z
LAST-MODIFIED:20240213T200833Z
UID:2735-1708687800-1708696800@spectrumlibrary.sd61.bc.ca
SUMMARY:AV Club
DESCRIPTION:
URL:https://spectrumlibrary.sd61.bc.ca/calendar-event/av-club/
LOCATION:Studio Bibliotech
END:VEVENT
BEGIN:VEVENT
DTSTART;TZID=America/Vancouver:20240222T113000
DTEND;TZID=America/Vancouver:20240222T120500
DTSTAMP:20260419T162448
CREATED:20240213T200501Z
LAST-MODIFIED:20240213T200501Z
UID:2729-1708601400-1708603500@spectrumlibrary.sd61.bc.ca
SUMMARY:Spectrum Student Book Club
DESCRIPTION:
URL:https://spectrumlibrary.sd61.bc.ca/calendar-event/spectrum-student-book-club-3/
LOCATION:Room 158 (Mr. Thatcher’s Room)
END:VEVENT
BEGIN:VEVENT
DTSTART;TZID=America/Vancouver:20240216T124500
DTEND;TZID=America/Vancouver:20240216T140000
DTSTAMP:20260419T162448
CREATED:20240213T200733Z
LAST-MODIFIED:20240213T200733Z
UID:2733-1708087500-1708092000@spectrumlibrary.sd61.bc.ca
SUMMARY:Teacher Librarians' Roundtable
DESCRIPTION:
URL:https://spectrumlibrary.sd61.bc.ca/calendar-event/teacher-librarians-roundtable/
LOCATION:Library Learning Commons
END:VEVENT
BEGIN:VEVENT
DTSTART;TZID=America/Vancouver:20240215T113000
DTEND;TZID=America/Vancouver:20240215T120000
DTSTAMP:20260419T162448
CREATED:20240208T190359Z
LAST-MODIFIED:20240208T190359Z
UID:2725-1707996600-1707998400@spectrumlibrary.sd61.bc.ca
SUMMARY:Spectrum Student Book Club
DESCRIPTION:
URL:https://spectrumlibrary.sd61.bc.ca/calendar-event/spectrum-student-book-club-2/
LOCATION:Room 158 (Mr. Thatcher’s Room)
END:VEVENT
BEGIN:VEVENT
DTSTART;TZID=America/Vancouver:20240208T113000
DTEND;TZID=America/Vancouver:20240208T120500
DTSTAMP:20260419T162448
CREATED:20240208T185919Z
LAST-MODIFIED:20240208T190104Z
UID:2723-1707391800-1707393900@spectrumlibrary.sd61.bc.ca
SUMMARY:Spectrum Student Book Club
DESCRIPTION:
URL:https://spectrumlibrary.sd61.bc.ca/calendar-event/spectrum-student-book-club/
LOCATION:Room 158 (Mr. Thatcher’s Room)
END:VEVENT
END:VCALENDAR